BEGIN:VCALENDAR
VERSION:2.0
PRODID:-//Town of Birch - ECPv6.15.20//NONSGML v1.0//EN
CALSCALE:GREGORIAN
METHOD:PUBLISH
X-WR-CALNAME:Town of Birch
X-ORIGINAL-URL:https://letsfixthatmess.net
X-WR-CALDESC:Events for Town of Birch
REFRESH-INTERVAL;VALUE=DURATION:PT1H
X-Robots-Tag:noindex
X-PUBLISHED-TTL:PT1H
BEGIN:VTIMEZONE
TZID:America/Chicago
BEGIN:DAYLIGHT
TZOFFSETFROM:-0600
TZOFFSETTO:-0500
TZNAME:CDT
DTSTART:20240310T080000
END:DAYLIGHT
BEGIN:STANDARD
TZOFFSETFROM:-0500
TZOFFSETTO:-0600
TZNAME:CST
DTSTART:20241103T070000
END:STANDARD
BEGIN:DAYLIGHT
TZOFFSETFROM:-0600
TZOFFSETTO:-0500
TZNAME:CDT
DTSTART:20250309T080000
END:DAYLIGHT
BEGIN:STANDARD
TZOFFSETFROM:-0500
TZOFFSETTO:-0600
TZNAME:CST
DTSTART:20251102T070000
END:STANDARD
BEGIN:DAYLIGHT
TZOFFSETFROM:-0600
TZOFFSETTO:-0500
TZNAME:CDT
DTSTART:20260308T080000
END:DAYLIGHT
BEGIN:STANDARD
TZOFFSETFROM:-0500
TZOFFSETTO:-0600
TZNAME:CST
DTSTART:20261101T070000
END:STANDARD
END:VTIMEZONE
BEGIN:VEVENT
DTSTART;TZID=America/Chicago:20251129T090000
DTEND;TZID=America/Chicago:20251129T140000
DTSTAMP:20260423T000704
CREATED:20250607T124250Z
LAST-MODIFIED:20250607T124250Z
UID:1770-1764406800-1764424800@letsfixthatmess.net
SUMMARY:Recycling Day
DESCRIPTION:Please bring only recyclable items\, flatten boxes and milk cartons\, do not leave items outside of the bins before of after recycling days.\nIf you need assistance getting your items into the bins please feel free to ask.
URL:https://letsfixthatmess.net/event/recycling-day-45/
LOCATION:Rock Falls Town Hall\, W5895 Rock Falls Drive\, Irma\, WI\, 54442\, United States
CATEGORIES:Recycling
END:VEVENT
BEGIN:VEVENT
DTSTART;TZID=America/Chicago:20251118T183000
DTEND;TZID=America/Chicago:20251118T203000
DTSTAMP:20260423T000704
CREATED:20251019T172105Z
LAST-MODIFIED:20251019T172105Z
UID:1817-1763490600-1763497800@letsfixthatmess.net
SUMMARY:2025 Budget & Regular Town Hall Meeting
DESCRIPTION:Budget Meeting will begin at 6:30 and then will be followed by the Regular Town Hall Meeting
URL:https://letsfixthatmess.net/event/2025-budget-regular-town-hall-meeting/
END:VEVENT
BEGIN:VEVENT
DTSTART;TZID=America/Chicago:20251115T080000
DTEND;TZID=America/Chicago:20251115T170000
DTSTAMP:20260423T000704
CREATED:20250607T124205Z
LAST-MODIFIED:20250607T124205Z
UID:1768-1763193600-1763226000@letsfixthatmess.net
SUMMARY:Recycling Day
DESCRIPTION:Please bring only recyclable items\, flatten boxes and milk cartons\, do not leave items outside of the bins before of after recycling days.\nIf you need assistance getting your items into the bins please feel free to ask.
URL:https://letsfixthatmess.net/event/recycling-day-44/
LOCATION:Rock Falls Town Hall\, W5895 Rock Falls Drive\, Irma\, WI\, 54442\, United States
CATEGORIES:Recycling
END:VEVENT
BEGIN:VEVENT
DTSTART;TZID=America/Chicago:20251101T090000
DTEND;TZID=America/Chicago:20251101T140000
DTSTAMP:20260423T000704
CREATED:20250607T124131Z
LAST-MODIFIED:20250607T124131Z
UID:1766-1761987600-1762005600@letsfixthatmess.net
SUMMARY:Recycling Day
DESCRIPTION:Please bring only recyclable items\, flatten boxes and milk cartons\, do not leave items outside of the bins before of after recycling days.\nIf you need assistance getting your items into the bins please feel free to ask.
URL:https://letsfixthatmess.net/event/recycling-day-43/
LOCATION:Rock Falls Town Hall\, W5895 Rock Falls Drive\, Irma\, WI\, 54442\, United States
CATEGORIES:Recycling
END:VEVENT
BEGIN:VEVENT
DTSTART;TZID=America/Chicago:20251101T080000
DTEND;TZID=America/Chicago:20251118T170000
DTSTAMP:20260423T000704
CREATED:20251101T161332Z
LAST-MODIFIED:20251101T161335Z
UID:1833-1761984000-1763485200@letsfixthatmess.net
SUMMARY:Town Budget for 2026
DESCRIPTION:The Proposed 2026 Town Budget is now posted for all electors\, the budget meeting is November 18\, 2025 at 6:30pm. Please come to give your thoughts or concerns.2026 revenueExpenditures 2025 and 2026
URL:https://letsfixthatmess.net/event/town-budget-for-2026/
CATEGORIES:Budget
END:VEVENT
BEGIN:VEVENT
DTSTART;VALUE=DATE:20251020
DTEND;VALUE=DATE:20251027
DTSTAMP:20260423T000704
CREATED:20251020T221318Z
LAST-MODIFIED:20251020T221322Z
UID:1819-1760918400-1761523199@letsfixthatmess.net
SUMMARY:Board Planning Meeting
DESCRIPTION:The Board will be meeting at the Town of Rock Falls Town Hall on Sunday October 26\, 2025 to discuss and plan the 2026 Budget\nNO ACTION WILL BE TAKEN AT THIS MEETING\nTh Budget Meeting will be at the Town of Rock Falls Town Hall on November 18\, 2025 and the budget will be posted prior to the meeting.
URL:https://letsfixthatmess.net/event/board-planning-meeting/
LOCATION:Rock Falls Town Hall\, W5895 Rock Falls Drive\, Irma\, WI\, 54442\, United States
CATEGORIES:Budget
END:VEVENT
BEGIN:VEVENT
DTSTART;TZID=America/Chicago:20251018T090000
DTEND;TZID=America/Chicago:20251018T140000
DTSTAMP:20260423T000704
CREATED:20250607T124043Z
LAST-MODIFIED:20250607T124043Z
UID:1764-1760778000-1760796000@letsfixthatmess.net
SUMMARY:Recycling Day
DESCRIPTION:Please bring only recyclable items\, flatten boxes and milk cartons\, do not leave items outside of the bins before of after recycling days.\nIf you need assistance getting your items into the bins please feel free to ask.
URL:https://letsfixthatmess.net/event/recycling-day-42/
LOCATION:Rock Falls Town Hall\, W5895 Rock Falls Drive\, Irma\, WI\, 54442\, United States
CATEGORIES:Recycling
END:VEVENT
BEGIN:VEVENT
DTSTART;TZID=America/Chicago:20251004T090000
DTEND;TZID=America/Chicago:20251004T140000
DTSTAMP:20260423T000704
CREATED:20250607T124002Z
LAST-MODIFIED:20250607T124002Z
UID:1762-1759568400-1759586400@letsfixthatmess.net
SUMMARY:Recycling Day
DESCRIPTION:Please bring only recyclable items\, flatten boxes and milk cartons\, do not leave items outside of the bins before of after recycling days.\nIf you need assistance getting your items into the bins please feel free to ask.
URL:https://letsfixthatmess.net/event/recycling-day-41/
LOCATION:Rock Falls Town Hall\, W5895 Rock Falls Drive\, Irma\, WI\, 54442\, United States
CATEGORIES:Recycling
END:VEVENT
BEGIN:VEVENT
DTSTART;TZID=America/Chicago:20250920T090000
DTEND;TZID=America/Chicago:20250920T140000
DTSTAMP:20260423T000704
CREATED:20250607T123903Z
LAST-MODIFIED:20250607T123903Z
UID:1760-1758358800-1758376800@letsfixthatmess.net
SUMMARY:Recycling Day
DESCRIPTION:Please bring only recyclable items\, flatten boxes and milk cartons\, do not leave items outside of the bins before of after recycling days.\nIf you need assistance getting your items into the bins please feel free to ask.
URL:https://letsfixthatmess.net/event/recycling-day-40/
LOCATION:Rock Falls Town Hall\, W5895 Rock Falls Drive\, Irma\, WI\, 54442\, United States
CATEGORIES:Recycling
END:VEVENT
BEGIN:VEVENT
DTSTART;TZID=America/Chicago:20250906T090000
DTEND;TZID=America/Chicago:20250906T140000
DTSTAMP:20260423T000704
CREATED:20250607T123819Z
LAST-MODIFIED:20250607T123819Z
UID:1758-1757149200-1757167200@letsfixthatmess.net
SUMMARY:Recycling Day
DESCRIPTION:Please bring only recyclable items\, flatten boxes and milk cartons\, do not leave items outside of the bins before of after recycling days.\nIf you need assistance getting your items into the bins please feel free to ask.
URL:https://letsfixthatmess.net/event/recycling-day-39/
LOCATION:Rock Falls Town Hall\, W5895 Rock Falls Drive\, Irma\, WI\, 54442\, United States
CATEGORIES:Recycling
END:VEVENT
BEGIN:VEVENT
DTSTART;TZID=America/Chicago:20250830T080000
DTEND;TZID=America/Chicago:20250830T170000
DTSTAMP:20260423T000704
CREATED:20250607T123726Z
LAST-MODIFIED:20250607T123726Z
UID:1756-1756540800-1756573200@letsfixthatmess.net
SUMMARY:Recycling Day
DESCRIPTION:Please bring only recyclable items\, flatten boxes and milk cartons\, do not leave items outside of the bins before of after recycling days.\nIf you need assistance getting your items into the bins please feel free to ask.
URL:https://letsfixthatmess.net/event/recycling-day-38/
LOCATION:Rock Falls Town Hall\, W5895 Rock Falls Drive\, Irma\, WI\, 54442\, United States
CATEGORIES:Recycling
END:VEVENT
BEGIN:VEVENT
DTSTART;TZID=America/Chicago:20250816T090000
DTEND;TZID=America/Chicago:20250816T140000
DTSTAMP:20260423T000704
CREATED:20250607T123649Z
LAST-MODIFIED:20250607T123649Z
UID:1754-1755334800-1755352800@letsfixthatmess.net
SUMMARY:Recycling Day
DESCRIPTION:Please bring only recyclable items\, flatten boxes and milk cartons\, do not leave items outside of the bins before of after recycling days.\nIf you need assistance getting your items into the bins please feel free to ask.
URL:https://letsfixthatmess.net/event/recycling-day-37/
LOCATION:Rock Falls Town Hall\, W5895 Rock Falls Drive\, Irma\, WI\, 54442\, United States
CATEGORIES:Recycling
END:VEVENT
BEGIN:VEVENT
DTSTART;TZID=America/Chicago:20250812T183000
DTEND;TZID=America/Chicago:20250812T193000
DTSTAMP:20260423T000704
CREATED:20250709T003916Z
LAST-MODIFIED:20250709T003916Z
UID:1789-1755023400-1755027000@letsfixthatmess.net
SUMMARY:August 12\, 2025 Town Hall Meeting
DESCRIPTION:
URL:https://letsfixthatmess.net/event/august-12-2025-town-hall-meeting/
LOCATION:Rock Falls Town Hall\, W5895 Rock Falls Drive\, Irma\, WI\, 54442\, United States
END:VEVENT
BEGIN:VEVENT
DTSTART;TZID=America/Chicago:20250802T090000
DTEND;TZID=America/Chicago:20250802T140000
DTSTAMP:20260423T000704
CREATED:20250607T123605Z
LAST-MODIFIED:20250607T123605Z
UID:1752-1754125200-1754143200@letsfixthatmess.net
SUMMARY:Recycling Day
DESCRIPTION:Please bring only recyclable items\, flatten boxes and milk cartons\, do not leave items outside of the bins before of after recycling days.\nIf you need assistance getting your items into the bins please feel free to ask.
URL:https://letsfixthatmess.net/event/recycling-day-36/
LOCATION:Rock Falls Town Hall\, W5895 Rock Falls Drive\, Irma\, WI\, 54442\, United States
CATEGORIES:Recycling
END:VEVENT
BEGIN:VEVENT
DTSTART;TZID=America/Chicago:20250729T183000
DTEND;TZID=America/Chicago:20250729T193000
DTSTAMP:20260423T000704
CREATED:20250709T003813Z
LAST-MODIFIED:20250709T003813Z
UID:1787-1753813800-1753817400@letsfixthatmess.net
SUMMARY:Meeting for Bid Opening & Action
DESCRIPTION:July 2025 LRIP Agenda (1)\nThis meeting is to open bids for Rock Falls Drive.
URL:https://letsfixthatmess.net/event/meeting-for-bid-opening-action/
LOCATION:Rock Falls Town Hall\, W5895 Rock Falls Drive\, Irma\, WI\, 54442\, United States
CATEGORIES:Agenda
END:VEVENT
BEGIN:VEVENT
DTSTART;TZID=America/Chicago:20250719T090000
DTEND;TZID=America/Chicago:20250719T140000
DTSTAMP:20260423T000704
CREATED:20250607T123513Z
LAST-MODIFIED:20250607T123513Z
UID:1750-1752915600-1752933600@letsfixthatmess.net
SUMMARY:Recycling Day
DESCRIPTION:Please bring only recyclable items\, flatten boxes and milk cartons\, do not leave items outside of the bins before of after recycling days.\nIf you need assistance getting your items into the bins please feel free to ask.
URL:https://letsfixthatmess.net/event/recycling-day-35/
LOCATION:Rock Falls Town Hall\, W5895 Rock Falls Drive\, Irma\, WI\, 54442\, United States
CATEGORIES:Recycling
END:VEVENT
BEGIN:VEVENT
DTSTART;TZID=America/Chicago:20250708T183000
DTEND;TZID=America/Chicago:20250708T190000
DTSTAMP:20260423T000704
CREATED:20250607T122858Z
LAST-MODIFIED:20250607T122858Z
UID:1742-1751999400-1752001200@letsfixthatmess.net
SUMMARY:Town Hall Meeting
DESCRIPTION:Please plan to attend the monthly Town Hall Meeting @ 6:30pm
URL:https://letsfixthatmess.net/event/town-hall-meeting-13/
LOCATION:Rock Falls Town Hall\, W5895 Rock Falls Drive\, Irma\, WI\, 54442\, United States
CATEGORIES:Community Events
END:VEVENT
BEGIN:VEVENT
DTSTART;TZID=America/Chicago:20250705T090000
DTEND;TZID=America/Chicago:20250705T140000
DTSTAMP:20260423T000704
CREATED:20250607T123432Z
LAST-MODIFIED:20250607T123432Z
UID:1748-1751706000-1751724000@letsfixthatmess.net
SUMMARY:Recycling Day
DESCRIPTION:Please bring only recyclable items\, flatten boxes and milk cartons\, do not leave items outside of the bins before of after recycling days.\nIf you need assistance getting your items into the bins please feel free to ask.
URL:https://letsfixthatmess.net/event/recycling-day-34/
LOCATION:Rock Falls Town Hall\, W5895 Rock Falls Drive\, Irma\, WI\, 54442\, United States
CATEGORIES:Recycling
END:VEVENT
BEGIN:VEVENT
DTSTART;TZID=America/Chicago:20250621T090000
DTEND;TZID=America/Chicago:20250621T140000
DTSTAMP:20260423T000704
CREATED:20250607T123126Z
LAST-MODIFIED:20250607T123126Z
UID:1746-1750496400-1750514400@letsfixthatmess.net
SUMMARY:Recycling Day
DESCRIPTION:
URL:https://letsfixthatmess.net/event/recycling-day-33/
LOCATION:Rock Falls Town Hall\, W5895 Rock Falls Drive\, Irma\, WI\, 54442\, United States
CATEGORIES:Recycling
END:VEVENT
BEGIN:VEVENT
DTSTART;TZID=America/Chicago:20250610T183000
DTEND;TZID=America/Chicago:20250610T190000
DTSTAMP:20260423T000704
CREATED:20250607T122736Z
LAST-MODIFIED:20250607T122736Z
UID:1740-1749580200-1749582000@letsfixthatmess.net
SUMMARY:Town Hall Meeting
DESCRIPTION:Please plan to attend the Town of Rock Falls Monthly Town Hall Meeting at 6:30pm
URL:https://letsfixthatmess.net/event/town-hall-meeting-12/
LOCATION:Rock Falls Town Hall\, W5895 Rock Falls Drive\, Irma\, WI\, 54442\, United States
CATEGORIES:Community Events
END:VEVENT
BEGIN:VEVENT
DTSTART;TZID=America/Chicago:20250607T090000
DTEND;TZID=America/Chicago:20250607T140000
DTSTAMP:20260423T000704
CREATED:20250607T123041Z
LAST-MODIFIED:20250607T123041Z
UID:1744-1749286800-1749304800@letsfixthatmess.net
SUMMARY:Recycling Day
DESCRIPTION:
URL:https://letsfixthatmess.net/event/recycling-day-32/
LOCATION:Rock Falls Town Hall\, W5895 Rock Falls Drive\, Irma\, WI\, 54442\, United States
CATEGORIES:Recycling
END:VEVENT
BEGIN:VEVENT
DTSTART;TZID=America/Chicago:20250607T080000
DTEND;TZID=America/Chicago:20251214T170000
DTSTAMP:20260423T000704
CREATED:20250607T134919Z
LAST-MODIFIED:20251216T002841Z
UID:1776-1749283200-1765731600@letsfixthatmess.net
SUMMARY:Hall Rental
DESCRIPTION:Are you in need of a space for a baby shower\, birthday party\, anniversary or ????\nDid you know you could hold your event at the Town Hall?\nWe invite you to consider having your event here. Town of Rock Falls Residents pay just $50.00 to rent the space with a $25.00 clean up fee.  All we require is one check for the rental and one check for the clean up fee.  If you clean the space and leave it as you found it then we will shred your check for the clean up fee.\nNot a resident? No worries you can still rent the space for $100.00 with a $25.00 clean up fee.  Leave the space as you found it and we will shred your clean up check as well.\nIf this sounds like something you want to do then contact Diane Chambers @715/536-5039.
URL:https://letsfixthatmess.net/event/hall-rental/
LOCATION:Rock Falls Town Hall\, W5895 Rock Falls Drive\, Irma\, WI\, 54442\, United States
END:VEVENT
BEGIN:VEVENT
DTSTART;TZID=America/Chicago:20250606T080000
DTEND;TZID=America/Chicago:20250606T170000
DTSTAMP:20260423T000704
CREATED:20250607T122150Z
LAST-MODIFIED:20250607T122150Z
UID:1732-1749196800-1749229200@letsfixthatmess.net
SUMMARY:Road Tour June 6\, 2025 @1:00pm
DESCRIPTION:June 2025 Road tour
URL:https://letsfixthatmess.net/event/road-tour-june-6-2025-100pm/
END:VEVENT
BEGIN:VEVENT
DTSTART;TZID=America/Chicago:20250531T090000
DTEND;TZID=America/Chicago:20250531T140000
DTSTAMP:20260423T000704
CREATED:20250105T202829Z
LAST-MODIFIED:20250105T202829Z
UID:1662-1748682000-1748700000@letsfixthatmess.net
SUMMARY:Recycling
DESCRIPTION:Please remember to flatten boxes and squash plastic jugs to make sure that as much as possible can fit into the bins.\nAlso\, please do not leave items outside of the bins\, items are being left that are not recyclable.
URL:https://letsfixthatmess.net/event/recycling-18/
LOCATION:Rock Falls Town Hall\, W5895 Rock Falls Drive\, Irma\, WI\, 54442\, United States
END:VEVENT
BEGIN:VEVENT
DTSTART;TZID=America/Chicago:20250520T183000
DTEND;TZID=America/Chicago:20250520T193000
DTSTAMP:20260423T000704
CREATED:20250427T203505Z
LAST-MODIFIED:20250427T203505Z
UID:1723-1747765800-1747769400@letsfixthatmess.net
SUMMARY:Town Hall Meeting May 20\, 2025
DESCRIPTION:Please plan to attend the monthly town hall meeting at 6:30pm
URL:https://letsfixthatmess.net/event/town-hall-meeting-may-20-2025/
LOCATION:Rock Falls Town Hall\, W5895 Rock Falls Drive\, Irma\, WI\, 54442\, United States
END:VEVENT
BEGIN:VEVENT
DTSTART;TZID=America/Chicago:20250517T090000
DTEND;TZID=America/Chicago:20250517T140000
DTSTAMP:20260423T000704
CREATED:20250105T202751Z
LAST-MODIFIED:20250105T202751Z
UID:1660-1747472400-1747490400@letsfixthatmess.net
SUMMARY:Recycling
DESCRIPTION:Please remember to flatten boxes and squash plastic jugs to make sure that as much as possible can fit into the bins.\nAlso\, please do not leave items outside of the bins\, items are being left that are not recyclable.
URL:https://letsfixthatmess.net/event/recycling-17/
LOCATION:Rock Falls Town Hall\, W5895 Rock Falls Drive\, Irma\, WI\, 54442\, United States
END:VEVENT
BEGIN:VEVENT
DTSTART;TZID=America/Chicago:20250513T190000
DTEND;TZID=America/Chicago:20250513T210000
DTSTAMP:20260423T000704
CREATED:20241214T171946Z
LAST-MODIFIED:20241214T171946Z
UID:1632-1747162800-1747170000@letsfixthatmess.net
SUMMARY:Board of Review
DESCRIPTION:Please plan to attend if you have spoken with the assessor at the Open Book Meeting
URL:https://letsfixthatmess.net/event/board-of-review-4/
END:VEVENT
BEGIN:VEVENT
DTSTART;TZID=America/Chicago:20250506T123000
DTEND;TZID=America/Chicago:20250506T123000
DTSTAMP:20260423T000704
CREATED:20241214T171403Z
LAST-MODIFIED:20250427T202241Z
UID:1628-1746534600-1746534600@letsfixthatmess.net
SUMMARY:Open Book for the Town of Rock Falls
DESCRIPTION:Open Book is scheduled for today and the Assessor will be at the Hall for discussion
URL:https://letsfixthatmess.net/event/open-book-for-the-town-of-rock-falls/
LOCATION:Rock Falls Town Hall\, W5895 Rock Falls Drive\, Irma\, WI\, 54442\, United States
CATEGORIES:Community Events
END:VEVENT
BEGIN:VEVENT
DTSTART;TZID=America/Chicago:20250504T080000
DTEND;TZID=America/Chicago:20250507T170000
DTSTAMP:20260423T000704
CREATED:20250504T130943Z
LAST-MODIFIED:20250504T130944Z
UID:1725-1746345600-1746637200@letsfixthatmess.net
SUMMARY:End of Road Limits
DESCRIPTION:The weight limits come off the roads on May 7\, 2025 at 7am
URL:https://letsfixthatmess.net/event/end-of-road-limits/
CATEGORIES:Community Events
END:VEVENT
BEGIN:VEVENT
DTSTART;TZID=America/Chicago:20250503T090000
DTEND;TZID=America/Chicago:20250503T140000
DTSTAMP:20260423T000704
CREATED:20250105T202705Z
LAST-MODIFIED:20250105T202705Z
UID:1658-1746262800-1746280800@letsfixthatmess.net
SUMMARY:Recycling
DESCRIPTION:Please remember to flatten boxes and squash plastic jugs to make sure that as much as possible can fit into the bins.\nAlso\, please do not leave items outside of the bins\, items are being left that are not recyclable.
URL:https://letsfixthatmess.net/event/recycling-16/
LOCATION:Rock Falls Town Hall\, W5895 Rock Falls Drive\, Irma\, WI\, 54442\, United States
END:VEVENT
END:VCALENDAR