BEGIN:VCALENDAR
VERSION:2.0
PRODID:-//Town of Birch - ECPv6.15.20//NONSGML v1.0//EN
CALSCALE:GREGORIAN
METHOD:PUBLISH
X-WR-CALNAME:Town of Birch
X-ORIGINAL-URL:https://letsfixthatmess.net
X-WR-CALDESC:Events for Town of Birch
REFRESH-INTERVAL;VALUE=DURATION:PT1H
X-Robots-Tag:noindex
X-PUBLISHED-TTL:PT1H
BEGIN:VTIMEZONE
TZID:America/Chicago
BEGIN:DAYLIGHT
TZOFFSETFROM:-0600
TZOFFSETTO:-0500
TZNAME:CDT
DTSTART:20240310T080000
END:DAYLIGHT
BEGIN:STANDARD
TZOFFSETFROM:-0500
TZOFFSETTO:-0600
TZNAME:CST
DTSTART:20241103T070000
END:STANDARD
BEGIN:DAYLIGHT
TZOFFSETFROM:-0600
TZOFFSETTO:-0500
TZNAME:CDT
DTSTART:20250309T080000
END:DAYLIGHT
BEGIN:STANDARD
TZOFFSETFROM:-0500
TZOFFSETTO:-0600
TZNAME:CST
DTSTART:20251102T070000
END:STANDARD
BEGIN:DAYLIGHT
TZOFFSETFROM:-0600
TZOFFSETTO:-0500
TZNAME:CDT
DTSTART:20260308T080000
END:DAYLIGHT
BEGIN:STANDARD
TZOFFSETFROM:-0500
TZOFFSETTO:-0600
TZNAME:CST
DTSTART:20261101T070000
END:STANDARD
END:VTIMEZONE
BEGIN:VEVENT
DTSTART;TZID=America/Chicago:20250405T080000
DTEND;TZID=America/Chicago:20250413T170000
DTSTAMP:20260422T234608
CREATED:20250405T181220Z
LAST-MODIFIED:20250405T181229Z
UID:1703-1743840000-1744563600@letsfixthatmess.net
SUMMARY:
DESCRIPTION:Election Results\nChairman : Mike VanDeWeerd for a one year term*\nTreasurer: Cindy Frisch\nClerk: Diane Chambers\nSupervisor: Kurt Niersel\nSupervisor: Randy Swan\nReferendum: Should Clerk be an appointed position was voted down\nReferendum: Should Treasurer be an appointed position was voted down \nWe would like to thank George Alery (Punky) for all of his years of service to our community \n*Chairman was selected to be the position that changed to a one year term in order to stagger the board so everyone wouldn’t be up for election\nat the same time.
URL:https://letsfixthatmess.net/event/1703/
LOCATION:Town Of Rock Falls
CATEGORIES:Election
END:VEVENT
BEGIN:VEVENT
DTSTART;VALUE=DATE:20250401
DTEND;VALUE=DATE:20250402
DTSTAMP:20260422T234608
CREATED:20250127T190227Z
LAST-MODIFIED:20250127T190227Z
UID:1672-1743465600-1743551999@letsfixthatmess.net
SUMMARY:Spring Election
DESCRIPTION:Polls are open from 7:00am until 8:00pm please remember to bring a valid ID or proof of residence. You will need that in order to vote.\nIf you need to register you may do that online at MyVote.com
URL:https://letsfixthatmess.net/event/spring-election/
LOCATION:Rock Falls Town Hall\, W5895 Rock Falls Drive\, Irma\, WI\, 54442\, United States
CATEGORIES:Election
END:VEVENT
BEGIN:VEVENT
DTSTART;VALUE=DATE:20250218
DTEND;VALUE=DATE:20250219
DTSTAMP:20260422T234608
CREATED:20250127T185957Z
LAST-MODIFIED:20250127T185957Z
UID:1670-1739836800-1739923199@letsfixthatmess.net
SUMMARY:Spring Primary Election
DESCRIPTION:Polls are open from 7:00am until 8:00pm
URL:https://letsfixthatmess.net/event/spring-primary-election/
LOCATION:Town Of Rock Falls
CATEGORIES:Election
END:VEVENT
END:VCALENDAR