BEGIN:VCALENDAR
VERSION:2.0
PRODID:-//Town of Birch - ECPv6.15.20//NONSGML v1.0//EN
CALSCALE:GREGORIAN
METHOD:PUBLISH
X-ORIGINAL-URL:https://letsfixthatmess.net
X-WR-CALDESC:Events for Town of Birch
REFRESH-INTERVAL;VALUE=DURATION:PT1H
X-Robots-Tag:noindex
X-PUBLISHED-TTL:PT1H
BEGIN:VTIMEZONE
TZID:America/Chicago
BEGIN:DAYLIGHT
TZOFFSETFROM:-0600
TZOFFSETTO:-0500
TZNAME:CDT
DTSTART:20200308T080000
END:DAYLIGHT
BEGIN:STANDARD
TZOFFSETFROM:-0500
TZOFFSETTO:-0600
TZNAME:CST
DTSTART:20201101T070000
END:STANDARD
BEGIN:DAYLIGHT
TZOFFSETFROM:-0600
TZOFFSETTO:-0500
TZNAME:CDT
DTSTART:20210314T080000
END:DAYLIGHT
BEGIN:STANDARD
TZOFFSETFROM:-0500
TZOFFSETTO:-0600
TZNAME:CST
DTSTART:20211107T070000
END:STANDARD
BEGIN:DAYLIGHT
TZOFFSETFROM:-0600
TZOFFSETTO:-0500
TZNAME:CDT
DTSTART:20220313T080000
END:DAYLIGHT
BEGIN:STANDARD
TZOFFSETFROM:-0500
TZOFFSETTO:-0600
TZNAME:CST
DTSTART:20221106T070000
END:STANDARD
BEGIN:DAYLIGHT
TZOFFSETFROM:-0600
TZOFFSETTO:-0500
TZNAME:CDT
DTSTART:20230312T080000
END:DAYLIGHT
BEGIN:STANDARD
TZOFFSETFROM:-0500
TZOFFSETTO:-0600
TZNAME:CST
DTSTART:20231105T070000
END:STANDARD
BEGIN:DAYLIGHT
TZOFFSETFROM:-0600
TZOFFSETTO:-0500
TZNAME:CDT
DTSTART:20240310T080000
END:DAYLIGHT
BEGIN:STANDARD
TZOFFSETFROM:-0500
TZOFFSETTO:-0600
TZNAME:CST
DTSTART:20241103T070000
END:STANDARD
BEGIN:DAYLIGHT
TZOFFSETFROM:-0600
TZOFFSETTO:-0500
TZNAME:CDT
DTSTART:20250309T080000
END:DAYLIGHT
BEGIN:STANDARD
TZOFFSETFROM:-0500
TZOFFSETTO:-0600
TZNAME:CST
DTSTART:20251102T070000
END:STANDARD
BEGIN:DAYLIGHT
TZOFFSETFROM:-0600
TZOFFSETTO:-0500
TZNAME:CDT
DTSTART:20260308T080000
END:DAYLIGHT
BEGIN:STANDARD
TZOFFSETFROM:-0500
TZOFFSETTO:-0600
TZNAME:CST
DTSTART:20261101T070000
END:STANDARD
END:VTIMEZONE
BEGIN:VEVENT
DTSTART;TZID=America/Chicago:20250708T183000
DTEND;TZID=America/Chicago:20250708T190000
DTSTAMP:20260422T041048
CREATED:20250607T122858Z
LAST-MODIFIED:20250607T122858Z
UID:1742-1751999400-1752001200@letsfixthatmess.net
SUMMARY:Town Hall Meeting
DESCRIPTION:Please plan to attend the monthly Town Hall Meeting @ 6:30pm
URL:https://letsfixthatmess.net/event/town-hall-meeting-13/
LOCATION:Rock Falls Town Hall\, W5895 Rock Falls Drive\, Irma\, WI\, 54442\, United States
CATEGORIES:Community Events
END:VEVENT
BEGIN:VEVENT
DTSTART;TZID=America/Chicago:20250610T183000
DTEND;TZID=America/Chicago:20250610T190000
DTSTAMP:20260422T041048
CREATED:20250607T122736Z
LAST-MODIFIED:20250607T122736Z
UID:1740-1749580200-1749582000@letsfixthatmess.net
SUMMARY:Town Hall Meeting
DESCRIPTION:Please plan to attend the Town of Rock Falls Monthly Town Hall Meeting at 6:30pm
URL:https://letsfixthatmess.net/event/town-hall-meeting-12/
LOCATION:Rock Falls Town Hall\, W5895 Rock Falls Drive\, Irma\, WI\, 54442\, United States
CATEGORIES:Community Events
END:VEVENT
BEGIN:VEVENT
DTSTART;TZID=America/Chicago:20250506T123000
DTEND;TZID=America/Chicago:20250506T123000
DTSTAMP:20260422T041048
CREATED:20241214T171403Z
LAST-MODIFIED:20250427T202241Z
UID:1628-1746534600-1746534600@letsfixthatmess.net
SUMMARY:Open Book for the Town of Rock Falls
DESCRIPTION:Open Book is scheduled for today and the Assessor will be at the Hall for discussion
URL:https://letsfixthatmess.net/event/open-book-for-the-town-of-rock-falls/
LOCATION:Rock Falls Town Hall\, W5895 Rock Falls Drive\, Irma\, WI\, 54442\, United States
CATEGORIES:Community Events
END:VEVENT
BEGIN:VEVENT
DTSTART;TZID=America/Chicago:20250504T080000
DTEND;TZID=America/Chicago:20250507T170000
DTSTAMP:20260422T041048
CREATED:20250504T130943Z
LAST-MODIFIED:20250504T130944Z
UID:1725-1746345600-1746637200@letsfixthatmess.net
SUMMARY:End of Road Limits
DESCRIPTION:The weight limits come off the roads on May 7\, 2025 at 7am
URL:https://letsfixthatmess.net/event/end-of-road-limits/
LOCATION:WI
CATEGORIES:Community Events
END:VEVENT
BEGIN:VEVENT
DTSTART;TZID=America/Chicago:20250427T080000
DTEND;TZID=America/Chicago:20250607T170000
DTSTAMP:20260422T041048
CREATED:20250427T203039Z
LAST-MODIFIED:20250427T203041Z
UID:1721-1745740800-1749315600@letsfixthatmess.net
SUMMARY:Annual Metal Recycling Day June 7\, 2025 from 9am until 2pm
DESCRIPTION:Please bring all scrap metal to the Town Hall for Recycling on June 7\, 2025\nThe following are acceptable items: Brass\, Copper\, Steel\, Small Appliances (no Refrigerants please) farm implements\, satellite dishes and metal roofing.\nThis is a one day event. Please do not bring garbage or things that would go in the normal recycling bins.
URL:https://letsfixthatmess.net/event/annual-metal-recycling-day-june-7-2025-from-9am-until-2pm/
LOCATION:Rock Falls Town Hall\, W5895 Rock Falls Drive\, Irma\, WI\, 54442\, United States
CATEGORIES:Community Events
END:VEVENT
BEGIN:VEVENT
DTSTART;TZID=America/Chicago:20240312T180000
DTEND;TZID=America/Chicago:20240312T190000
DTSTAMP:20260422T041048
CREATED:20240224T011245Z
LAST-MODIFIED:20240224T011245Z
UID:1377-1710266400-1710270000@letsfixthatmess.net
SUMMARY:Town Hall Meeting March 12\, 2024
DESCRIPTION:Please plan to attend and remember\, if you have any concerns or something you would like to discuss\, there is always a Public Comment Section at the end of the meeting
URL:https://letsfixthatmess.net/event/town-hall-meeting-march-12-2024/
LOCATION:Rock Falls Town Hall\, W5895 Rock Falls Drive\, Irma\, WI\, 54442\, United States
CATEGORIES:Community Events
END:VEVENT
BEGIN:VEVENT
DTSTART;VALUE=DATE:20240220
DTEND;VALUE=DATE:20240224
DTSTAMP:20260422T041048
CREATED:20240220T231448Z
LAST-MODIFIED:20240220T231451Z
UID:1374-1708387200-1708732799@letsfixthatmess.net
SUMMARY:Road Weight Limits 02/22/2024
DESCRIPTION:Road Weight Limits begin this Thursday\, February 22\, 2024 at Noon
URL:https://letsfixthatmess.net/event/road-weight-limits-02-22-2024/
LOCATION:Town Of Rock Falls
CATEGORIES:Community Events
END:VEVENT
BEGIN:VEVENT
DTSTART;TZID=America/Chicago:20240208T160000
DTEND;TZID=America/Chicago:20240208T170000
DTSTAMP:20260422T041048
CREATED:20240114T172116Z
LAST-MODIFIED:20240114T172116Z
UID:1343-1707408000-1707411600@letsfixthatmess.net
SUMMARY:Notice of Public Hearing from Lincoln County Land Services
DESCRIPTION:this is the meeting referenced at the Town Hall meeting in January regarding the resolutions we discussed.  If you are interested in more information regarding those resolutions and why they were voted on the way the way they were then this is the meeting to attend.
URL:https://letsfixthatmess.net/event/notice-of-public-hearing-from-lincoln-county-land-services/
LOCATION:Lincoln County Service Center\, 801 Sales Street Room 257\, Merrill\, Wisconsin\, 54452
CATEGORIES:Community Events
END:VEVENT
BEGIN:VEVENT
DTSTART;TZID=America/Chicago:20220712T190000
DTEND;TZID=America/Chicago:20220712T200000
DTSTAMP:20260422T041048
CREATED:20220710T180350Z
LAST-MODIFIED:20220710T180350Z
UID:907-1657652400-1657656000@letsfixthatmess.net
SUMMARY:Town Board Meeting
DESCRIPTION:Monthly Town Board Meeting
URL:https://letsfixthatmess.net/event/town-board-meeting-4/
LOCATION:Rock Falls Town Hall\, W5895 Rock Falls Drive\, Irma\, WI\, 54442\, United States
CATEGORIES:Community Events
END:VEVENT
BEGIN:VEVENT
DTSTART;TZID=America/Chicago:20220203T180000
DTEND;TZID=America/Chicago:20220203T200000
DTSTAMP:20260422T041048
CREATED:20211210T182430Z
LAST-MODIFIED:20211210T182910Z
UID:847-1643911200-1643918400@letsfixthatmess.net
SUMMARY:Final Tax Collection
DESCRIPTION:Appointments not necessary for Thursdays collection at Town Hall. All other appointments to be scheduled with Cindy at 715-536-3947. All mailed taxes must be post marked by January 31\, 2022.
URL:https://letsfixthatmess.net/event/final-tax-collection/
LOCATION:Rock Falls Town Hall\, W5895 Rock Falls Drive\, Irma\, WI\, 54442\, United States
CATEGORIES:Community Events
END:VEVENT
BEGIN:VEVENT
DTSTART;TZID=America/Chicago:20220127T180000
DTEND;TZID=America/Chicago:20220127T200000
DTSTAMP:20260422T041048
CREATED:20211201T161606Z
LAST-MODIFIED:20211202T000836Z
UID:827-1643306400-1643313600@letsfixthatmess.net
SUMMARY:Tax Collection Day 6
DESCRIPTION:Appointments not necessary for Thursday’s tax collection at Town Hall. All other appointments to be scheduled with Cindy at 715-536-3947.
URL:https://letsfixthatmess.net/event/tax-collection-day-6/
LOCATION:Rock Falls Town Hall\, W5895 Rock Falls Drive\, Irma\, WI\, 54442\, United States
CATEGORIES:Community Events
END:VEVENT
BEGIN:VEVENT
DTSTART;TZID=America/Chicago:20220120T180000
DTEND;TZID=America/Chicago:20220120T200000
DTSTAMP:20260422T041048
CREATED:20211201T161444Z
LAST-MODIFIED:20211202T000648Z
UID:825-1642701600-1642708800@letsfixthatmess.net
SUMMARY:Tax Collection Day 5
DESCRIPTION:Appointments not necessary for Thursday’s tax collections at Town Hall. All other appointments to be scheduled with Cindy at 715-536-3947.
URL:https://letsfixthatmess.net/event/tax-collection-day-5/
LOCATION:Rock Falls Town Hall\, W5895 Rock Falls Drive\, Irma\, WI\, 54442\, United States
CATEGORIES:Community Events
END:VEVENT
BEGIN:VEVENT
DTSTART;TZID=America/Chicago:20220115T090000
DTEND;TZID=America/Chicago:20220115T140000
DTSTAMP:20260422T041048
CREATED:20211215T222606Z
LAST-MODIFIED:20211215T222606Z
UID:859-1642237200-1642255200@letsfixthatmess.net
SUMMARY:Recycling
DESCRIPTION:
URL:https://letsfixthatmess.net/event/recycling-4/
LOCATION:Rock Falls Town Hall\, W5895 Rock Falls Drive\, Irma\, WI\, 54442\, United States
CATEGORIES:Community Events
END:VEVENT
BEGIN:VEVENT
DTSTART;TZID=America/Chicago:20220113T180000
DTEND;TZID=America/Chicago:20220113T200000
DTSTAMP:20260422T041048
CREATED:20211201T161324Z
LAST-MODIFIED:20211202T000417Z
UID:823-1642096800-1642104000@letsfixthatmess.net
SUMMARY:Tax Collection Day 4
DESCRIPTION:Appointment not necessary for Thursday’s tax collection at Town Hall. All other appointments to be scheduled with Cindy at 715-536-3947.
URL:https://letsfixthatmess.net/event/tax-collection-day-4/
LOCATION:Rock Falls Town Hall\, W5895 Rock Falls Drive\, Irma\, WI\, 54442\, United States
CATEGORIES:Community Events
END:VEVENT
BEGIN:VEVENT
DTSTART;TZID=America/Chicago:20220111T190000
DTEND;TZID=America/Chicago:20220111T190000
DTSTAMP:20260422T041048
CREATED:20211215T222501Z
LAST-MODIFIED:20211215T222501Z
UID:857-1641927600-1641927600@letsfixthatmess.net
SUMMARY:Town Board Meeting
DESCRIPTION:
URL:https://letsfixthatmess.net/event/town-board-meeting-2/
LOCATION:Rock Falls Town Hall\, W5895 Rock Falls Drive\, Irma\, WI\, 54442\, United States
CATEGORIES:Community Events
END:VEVENT
BEGIN:VEVENT
DTSTART;TZID=America/Chicago:20220106T180000
DTEND;TZID=America/Chicago:20220106T200000
DTSTAMP:20260422T041048
CREATED:20211201T161150Z
LAST-MODIFIED:20211202T000143Z
UID:821-1641492000-1641499200@letsfixthatmess.net
SUMMARY:Tax collection  Day 3
DESCRIPTION:Appointments not necessary for Thursday’s tax collections at Town Hall. All other appointments to be scheduled with Cindy at 715-536-3947.
URL:https://letsfixthatmess.net/event/tax-collection-day-3/
LOCATION:Rock Falls Town Hall\, W5895 Rock Falls Drive\, Irma\, WI\, 54442\, United States
CATEGORIES:Community Events
END:VEVENT
BEGIN:VEVENT
DTSTART;TZID=America/Chicago:20220101T090000
DTEND;TZID=America/Chicago:20220101T140000
DTSTAMP:20260422T041048
CREATED:20211215T222253Z
LAST-MODIFIED:20211215T222253Z
UID:854-1641027600-1641045600@letsfixthatmess.net
SUMMARY:Recycling
DESCRIPTION:
URL:https://letsfixthatmess.net/event/recycling-3/
LOCATION:Rock Falls Town Hall\, W5895 Rock Falls Drive\, Irma\, WI\, 54442\, United States
CATEGORIES:Community Events
END:VEVENT
BEGIN:VEVENT
DTSTART;TZID=America/Chicago:20211230T180000
DTEND;TZID=America/Chicago:20211230T200000
DTSTAMP:20260422T041048
CREATED:20211128T010042Z
LAST-MODIFIED:20211201T235716Z
UID:786-1640887200-1640894400@letsfixthatmess.net
SUMMARY:Tax Collection Day 2
DESCRIPTION:Appointments not necessary for Thursday’s tax collections at Town Hall. All other appointments to be scheduled with Cindy at 715-536-3947.
URL:https://letsfixthatmess.net/event/tax-collection-day-2/
LOCATION:Rock Falls Town Hall\, W5895 Rock Falls Drive\, Irma\, WI\, 54442\, United States
CATEGORIES:Community Events
END:VEVENT
BEGIN:VEVENT
DTSTART;TZID=America/Chicago:20211223T180000
DTEND;TZID=America/Chicago:20211223T200000
DTSTAMP:20260422T041048
CREATED:20211128T004845Z
LAST-MODIFIED:20211201T235326Z
UID:778-1640282400-1640289600@letsfixthatmess.net
SUMMARY:Tax Collection Day 1
DESCRIPTION:Appointments not necessary for Thursday’s tax collections at Town Hall. All other appointments to be scheduled with Cindy at 715-536-3947.
URL:https://letsfixthatmess.net/event/tax-collection/
LOCATION:Rock Falls Town Hall\, W5895 Rock Falls Drive\, Irma\, WI\, 54442\, United States
CATEGORIES:Community Events
END:VEVENT
BEGIN:VEVENT
DTSTART;TZID=America/Chicago:20211220T190000
DTEND;TZID=America/Chicago:20211220T190000
DTSTAMP:20260422T041048
CREATED:20211219T234145Z
LAST-MODIFIED:20211219T234145Z
UID:864-1640026800-1640026800@letsfixthatmess.net
SUMMARY:Town Board Meeting
DESCRIPTION:As required\, the town must notify the public whenever the board meets. This meeting will be to review and approve the Towns insurance policy for the 2022 calendar year.  There will also be payment of current vouchers at this meeting. The only other topic at this meeting will be the securing of a filing cabinet.
URL:https://letsfixthatmess.net/event/town-board-meeting-3/
LOCATION:Rock Falls Town Hall\, W5895 Rock Falls Drive\, Irma\, WI\, 54442\, United States
CATEGORIES:Community Events
END:VEVENT
BEGIN:VEVENT
DTSTART;TZID=America/Chicago:20211218T090000
DTEND;TZID=America/Chicago:20211218T140000
DTSTAMP:20260422T041048
CREATED:20211128T134955Z
LAST-MODIFIED:20211128T142649Z
UID:798-1639818000-1639836000@letsfixthatmess.net
SUMMARY:Recycling
DESCRIPTION:Recycling Drop off site open
URL:https://letsfixthatmess.net/event/recycling/
LOCATION:Rock Falls Town Hall\, W5895 Rock Falls Drive\, Irma\, WI\, 54442\, United States
CATEGORIES:Community Events
END:VEVENT
BEGIN:VEVENT
DTSTART;TZID=America/Chicago:20211214T190000
DTEND;TZID=America/Chicago:20211214T190000
DTSTAMP:20260422T041048
CREATED:20211128T025800Z
LAST-MODIFIED:20211128T135233Z
UID:796-1639508400-1639508400@letsfixthatmess.net
SUMMARY:Town Board Meeting
DESCRIPTION:Monthly Town Board Meeting
URL:https://letsfixthatmess.net/event/town-board-meeting/
LOCATION:Rock Falls Town Hall\, W5895 Rock Falls Drive\, Irma\, WI\, 54442\, United States
CATEGORIES:Community Events
END:VEVENT
BEGIN:VEVENT
DTSTART;TZID=America/Chicago:20211204T090000
DTEND;TZID=America/Chicago:20211204T140000
DTSTAMP:20260422T041048
CREATED:20211128T140037Z
LAST-MODIFIED:20211128T142548Z
UID:802-1638608400-1638626400@letsfixthatmess.net
SUMMARY:Recycling
DESCRIPTION:Recycling drop off site open
URL:https://letsfixthatmess.net/event/recycling-2/
LOCATION:Rock Falls Town Hall\, W5895 Rock Falls Drive\, Irma\, WI\, 54442\, United States
CATEGORIES:Community Events
END:VEVENT
END:VCALENDAR